BEGIN:VCALENDAR
VERSION:2.0
PRODID:-//cardwings.de - ECPv6.14.2//NONSGML v1.0//EN
CALSCALE:GREGORIAN
METHOD:PUBLISH
X-ORIGINAL-URL:https://cardwings.de
X-WR-CALDESC:Veranstaltungen für cardwings.de
REFRESH-INTERVAL;VALUE=DURATION:PT1H
X-Robots-Tag:noindex
X-PUBLISHED-TTL:PT1H
BEGIN:VTIMEZONE
TZID:Europe/Berlin
BEGIN:DAYLIGHT
TZOFFSETFROM:+0100
TZOFFSETTO:+0200
TZNAME:CEST
DTSTART:20250330T010000
END:DAYLIGHT
BEGIN:STANDARD
TZOFFSETFROM:+0200
TZOFFSETTO:+0100
TZNAME:CET
DTSTART:20251026T010000
END:STANDARD
END:VTIMEZONE
BEGIN:VEVENT
DTSTART;TZID=Europe/Berlin:20250611T190000
DTEND;TZID=Europe/Berlin:20250611T223000
DTSTAMP:20260421T232920
CREATED:20250601T182555Z
LAST-MODIFIED:20250601T182555Z
UID:1450-1749668400-1749681000@cardwings.de
SUMMARY:Teamliga: KeepSeven vs Tota Hahn
DESCRIPTION:An dem 5.Spieltag werdet ihr ein spannendes Match zwischen den Teams Tota Hahn und KeepSeven sehen können. Ihr könnt das Match live zuschauen und in den Kommentaren für Stimmung sorgen. Hier gehts zum Kanal von Tota Hahn Lorcana
URL:https://cardwings.de/event/teamliga-keepseven-vs-tota-hahn/
CATEGORIES:Team Liga
ATTACH;FMTTYPE=image/png:https://cardwings.de/wp-content/uploads/2025/06/KeepSeven-vs-Tota-Hahn-Ankuendigung.png
END:VEVENT
BEGIN:VEVENT
DTSTART;TZID=Europe/Berlin:20250623T190000
DTEND;TZID=Europe/Berlin:20250623T220000
DTSTAMP:20260421T232920
CREATED:20250617T203713Z
LAST-MODIFIED:20250617T204655Z
UID:1616-1750705200-1750716000@cardwings.de
SUMMARY:Teamliga: DarkWings vs Tota Hahn
DESCRIPTION:An dem 6.Spieltag werdet ihr ein spannendes Match zwischen den Teams DarkWings und Tota Hahn sehen können. Ihr könnt das Match live zuschauen und in den Kommentaren für Stimmung sorgen. Hier gehts zum Kanal von CardWings und bei Tota Hahn auf Twitch 
URL:https://cardwings.de/event/teamliga-darkwings-vs-tota-hahn/
CATEGORIES:Team Liga
ATTACH;FMTTYPE=image/jpeg:https://cardwings.de/wp-content/uploads/2025/06/Instagram-Story-Matchergebnis-1-2.jpg
END:VEVENT
END:VCALENDAR