BEGIN:VCALENDAR
VERSION:2.0
PRODID:-//cardwings.de - ECPv6.14.2//NONSGML v1.0//EN
CALSCALE:GREGORIAN
METHOD:PUBLISH
X-ORIGINAL-URL:https://cardwings.de
X-WR-CALDESC:Veranstaltungen für cardwings.de
REFRESH-INTERVAL;VALUE=DURATION:PT1H
X-Robots-Tag:noindex
X-PUBLISHED-TTL:PT1H
BEGIN:VTIMEZONE
TZID:Europe/Berlin
BEGIN:DAYLIGHT
TZOFFSETFROM:+0100
TZOFFSETTO:+0200
TZNAME:CEST
DTSTART:20250330T010000
END:DAYLIGHT
BEGIN:STANDARD
TZOFFSETFROM:+0200
TZOFFSETTO:+0100
TZNAME:CET
DTSTART:20251026T010000
END:STANDARD
END:VTIMEZONE
BEGIN:VEVENT
DTSTART;TZID=Europe/Berlin:20250512T190000
DTEND;TZID=Europe/Berlin:20250512T220000
DTSTAMP:20260422T011931
CREATED:20250429T125119Z
LAST-MODIFIED:20250429T125119Z
UID:1364-1747076400-1747087200@cardwings.de
SUMMARY:Teamliga: Tota Hahn vs Mushu Clan
DESCRIPTION:An dem 3.Spieltag werdet ihr ein spannendes Match zwischen den Teams Mushu Clan und Tota Hahn sehen können. Ihr könnt das Match live zuschauen und in den Kommentaren für Stimmung sorgen. Hier gehts zum Kanal vom G_able
URL:https://cardwings.de/event/teamliga-tota-hahn-vs-mushu-clan-2/
CATEGORIES:Team Liga
ATTACH;FMTTYPE=image/png:https://cardwings.de/wp-content/uploads/2025/04/Insta-Story-Ankuendigung-4.png
END:VEVENT
BEGIN:VEVENT
DTSTART;TZID=Europe/Berlin:20250512T190000
DTEND;TZID=Europe/Berlin:20250512T220000
DTSTAMP:20260422T011931
CREATED:20250429T125119Z
LAST-MODIFIED:20250429T125120Z
UID:1245-1747076400-1747087200@cardwings.de
SUMMARY:Teamliga: Tota Hahn vs Mushu Clan
DESCRIPTION:An dem 3.Spieltag werdet ihr ein spannendes Match zwischen den Teams Mushu Clan und Tota Hahn sehen können. Ihr könnt das Match live zuschauen und in den Kommentaren für Stimmung sorgen. Hier gehts zum Kanal vom G_able
URL:https://cardwings.de/event/teamliga-tota-hahn-vs-mushu-clan/
CATEGORIES:Team Liga
ATTACH;FMTTYPE=image/png:https://cardwings.de/wp-content/uploads/2025/04/Insta-Story-Ankuendigung-4.png
END:VEVENT
BEGIN:VEVENT
DTSTART;TZID=Europe/Berlin:20250526T190000
DTEND;TZID=Europe/Berlin:20250526T220000
DTSTAMP:20260422T011931
CREATED:20250512T162321Z
LAST-MODIFIED:20250512T162321Z
UID:1367-1748286000-1748296800@cardwings.de
SUMMARY:Teamliga: Tota Hahn vs Inkognito
DESCRIPTION:An dem 4.Spieltag werdet ihr ein spannendes Match zwischen den Teams Inkognito und Tota Hahn sehen können. Ihr könnt das Match live zuschauen und in den Kommentaren für Stimmung sorgen. Hier gehts zum Kanal von Tota Hahn
URL:https://cardwings.de/event/teamliga-tota-hahn-vs-inkognito/
CATEGORIES:Team Liga
ATTACH;FMTTYPE=image/png:https://cardwings.de/wp-content/uploads/2025/05/Insta-Story-Ankuendigung.png
END:VEVENT
END:VCALENDAR