BEGIN:VCALENDAR
VERSION:2.0
PRODID:-//cardwings.de - ECPv6.14.2//NONSGML v1.0//EN
CALSCALE:GREGORIAN
METHOD:PUBLISH
X-ORIGINAL-URL:https://cardwings.de
X-WR-CALDESC:Veranstaltungen für cardwings.de
REFRESH-INTERVAL;VALUE=DURATION:PT1H
X-Robots-Tag:noindex
X-PUBLISHED-TTL:PT1H
BEGIN:VTIMEZONE
TZID:Europe/Berlin
BEGIN:DAYLIGHT
TZOFFSETFROM:+0100
TZOFFSETTO:+0200
TZNAME:CEST
DTSTART:20250330T010000
END:DAYLIGHT
BEGIN:STANDARD
TZOFFSETFROM:+0200
TZOFFSETTO:+0100
TZNAME:CET
DTSTART:20251026T010000
END:STANDARD
END:VTIMEZONE
BEGIN:VEVENT
DTSTART;TZID=Europe/Berlin:20250411T170000
DTEND;TZID=Europe/Berlin:20250411T210000
DTSTAMP:20260422T025209
CREATED:20250321T223654Z
LAST-MODIFIED:20250326T213343Z
UID:832-1744390800-1744405200@cardwings.de
SUMMARY:Teamliga: Team Tota Hahn vs Team Secret Rare
DESCRIPTION:Es tritt zum ersten mal in der Saison das Team Secret Rare gegen das Team Tota Hahn an. Ihr könnt das Match live zuschauen und in den Kommentaren für Stimmung sorgen. Hier gehts zum Kanal von membis_tsr  und per VOD dann bei Tota Hahn auf Youtube
URL:https://cardwings.de/event/teamliga-totahahn-vs-team-secret-rare/
CATEGORIES:Team Liga
ATTACH;FMTTYPE=image/jpeg:https://cardwings.de/wp-content/uploads/2025/03/Insta-Story-Ankuendigung-4.jpg
END:VEVENT
BEGIN:VEVENT
DTSTART;TZID=Europe/Berlin:20250411T170000
DTEND;TZID=Europe/Berlin:20250411T210000
DTSTAMP:20260422T025209
CREATED:20250321T223654Z
LAST-MODIFIED:20250321T223654Z
UID:1351-1744390800-1744405200@cardwings.de
SUMMARY:Teamliga: Team Tota Hahn vs Team Secret Rare
DESCRIPTION:Es tritt zum ersten mal in der Saison das Team Secret Rare gegen das Team Tota Hahn an. Ihr könnt das Match live zuschauen und in den Kommentaren für Stimmung sorgen. Hier gehts zum Kanal von membis_tsr  und per VOD dann bei Tota Hahn auf Youtube
URL:https://cardwings.de/event/teamliga-totahahn-vs-team-secret-rare-2/
CATEGORIES:Team Liga
ATTACH;FMTTYPE=image/jpeg:https://cardwings.de/wp-content/uploads/2025/03/Insta-Story-Ankuendigung-4.jpg
END:VEVENT
BEGIN:VEVENT
DTSTART;TZID=Europe/Berlin:20250417T190000
DTEND;TZID=Europe/Berlin:20250417T220000
DTSTAMP:20260422T025209
CREATED:20250414T214646Z
LAST-MODIFIED:20250414T214646Z
UID:1357-1744916400-1744927200@cardwings.de
SUMMARY:Teamliga: Tota Hahn vs Battle Bear
DESCRIPTION:Im zweiten Spieltag treten die Battle Bears gegen Tota Hahn an. Ihr könnt das Match live mitverfolgen und die Teams anfeuern beim Twitchkanal Tota Hahn 
URL:https://cardwings.de/event/teamliga-tota-hahn-vs-battle-bear-2/
CATEGORIES:Team Liga
ATTACH;FMTTYPE=image/png:https://cardwings.de/wp-content/uploads/2025/04/Battle-Bears-vs-Tota-Hahn-Ankuendigung.png
END:VEVENT
BEGIN:VEVENT
DTSTART;TZID=Europe/Berlin:20250417T190000
DTEND;TZID=Europe/Berlin:20250417T220000
DTSTAMP:20260422T025209
CREATED:20250414T214646Z
LAST-MODIFIED:20250414T214646Z
UID:1189-1744916400-1744927200@cardwings.de
SUMMARY:Teamliga: Tota Hahn vs Battle Bear
DESCRIPTION:Im zweiten Spieltag treten die Battle Bears gegen Tota Hahn an. Ihr könnt das Match live mitverfolgen und die Teams anfeuern beim Twitchkanal Tota Hahn 
URL:https://cardwings.de/event/teamliga-tota-hahn-vs-battle-bear/
CATEGORIES:Team Liga
ATTACH;FMTTYPE=image/png:https://cardwings.de/wp-content/uploads/2025/04/Battle-Bears-vs-Tota-Hahn-Ankuendigung.png
END:VEVENT
END:VCALENDAR