BEGIN:VCALENDAR
VERSION:2.0
PRODID:-//cardwings.de - ECPv6.14.2//NONSGML v1.0//EN
CALSCALE:GREGORIAN
METHOD:PUBLISH
X-ORIGINAL-URL:https://cardwings.de
X-WR-CALDESC:Veranstaltungen für cardwings.de
REFRESH-INTERVAL;VALUE=DURATION:PT1H
X-Robots-Tag:noindex
X-PUBLISHED-TTL:PT1H
BEGIN:VTIMEZONE
TZID:Europe/Berlin
BEGIN:DAYLIGHT
TZOFFSETFROM:+0100
TZOFFSETTO:+0200
TZNAME:CEST
DTSTART:20250330T010000
END:DAYLIGHT
BEGIN:STANDARD
TZOFFSETFROM:+0200
TZOFFSETTO:+0100
TZNAME:CET
DTSTART:20251026T010000
END:STANDARD
END:VTIMEZONE
BEGIN:VEVENT
DTSTART;TZID=Europe/Berlin:20250503T080000
DTEND;TZID=Europe/Berlin:20250503T180000
DTSTAMP:20260420T030357
CREATED:20250310T072020Z
LAST-MODIFIED:20250310T075103Z
UID:687-1746259200-1746295200@cardwings.de
SUMMARY:TCG Mutiverse Series - Xperion Hamburg
DESCRIPTION:Erlebe das ultimative Disney Lorcana Turnier \nDer Auftakt erfolgt am 03.05.2025 mit Disney Lorcana – sei dabei\, wenn die Magie beginnt! Weitere TCG-Highlights folgen. Verpasse nicht die Chance\, Teil dieser einzigartigen Community zu werden. \nTCG Multiverse Series – Disney Lorcana Edition \n\nWir – AOG\, Battle Bear und die XP Bar Hamburg – laden euch am 03. Mai 2025 ins XPERION Hamburg ein! \nMesse dich mit den stärksten Spielern und beweise dein Können im 2 Game Format | Core Constructed-Format! Nach sieben spannenden Runden im Schweizer System treten die besten acht Spieler erneut gegeneinander an\, um den ultimativen Champion zu krönen. Mit maximal 128 Teilnehmern wird dieses exklusive Event nicht nur ein Kampf um Ruhm\, sondern auch um wertvolle Preise! \nTickets: 50 € (inklusive zwei Mahlzeiten & Getränke nach Wahl) \nPreise: \n\nPlatz 1: Playstation 5 + Enchanted Stitch – Rockstar Set Championships Promo\nPlatz 2: 1x Disney Lorcana „Das Erste Kapitel“ Display DE + 1x Enchanted Cinderella\nPlatz 3: 1x Disney Lorcana „The First Chapter“ Illumineer’s Trove + 1x Enchanted Robin Hood\n\nJeder Teilnehmer bekommt vorab ein Entry Bag\, darin sind zwei Booster Archazias Insel\, eine gepregradete Karte von AOG und ein Red Bull enthalten. \nAustragungsort: \nXPERION Hamburg\n4. OG Media Markt Tech Village\nMönckebergstraße 1/4\n20095 Hamburg
URL:https://cardwings.de/event/tcg-mutiverse-series-xperion-hamburg/
CATEGORIES:Turniere
ATTACH;FMTTYPE=image/webp:https://cardwings.de/wp-content/uploads/2025/03/banner_multiverse2.webp
END:VEVENT
BEGIN:VEVENT
DTSTART;TZID=Europe/Berlin:20250503T080000
DTEND;TZID=Europe/Berlin:20250503T180000
DTSTAMP:20260420T030357
CREATED:20250310T072020Z
LAST-MODIFIED:20250310T072020Z
UID:1345-1746259200-1746295200@cardwings.de
SUMMARY:TCG Mutiverse Series - Xperion Hamburg
DESCRIPTION:Erlebe das ultimative Disney Lorcana Turnier \nDer Auftakt erfolgt am 03.05.2025 mit Disney Lorcana – sei dabei\, wenn die Magie beginnt! Weitere TCG-Highlights folgen. Verpasse nicht die Chance\, Teil dieser einzigartigen Community zu werden. \nTCG Multiverse Series – Disney Lorcana Edition \n\nWir – AOG\, Battle Bear und die XP Bar Hamburg – laden euch am 03. Mai 2025 ins XPERION Hamburg ein! \nMesse dich mit den stärksten Spielern und beweise dein Können im 2 Game Format | Core Constructed-Format! Nach sieben spannenden Runden im Schweizer System treten die besten acht Spieler erneut gegeneinander an\, um den ultimativen Champion zu krönen. Mit maximal 128 Teilnehmern wird dieses exklusive Event nicht nur ein Kampf um Ruhm\, sondern auch um wertvolle Preise! \nTickets: 50 € (inklusive zwei Mahlzeiten & Getränke nach Wahl) \nPreise: \n\nPlatz 1: Playstation 5 + Enchanted Stitch – Rockstar Set Championships Promo\nPlatz 2: 1x Disney Lorcana „Das Erste Kapitel“ Display DE + 1x Enchanted Cinderella\nPlatz 3: 1x Disney Lorcana „The First Chapter“ Illumineer’s Trove + 1x Enchanted Robin Hood\n\nJeder Teilnehmer bekommt vorab ein Entry Bag\, darin sind zwei Booster Archazias Insel\, eine gepregradete Karte von AOG und ein Red Bull enthalten. \nAustragungsort: \nXPERION Hamburg\n4. OG Media Markt Tech Village\nMönckebergstraße 1/4\n20095 Hamburg
URL:https://cardwings.de/event/tcg-mutiverse-series-xperion-hamburg-2/
CATEGORIES:Turniere
ATTACH;FMTTYPE=image/webp:https://cardwings.de/wp-content/uploads/2025/03/banner_multiverse2.webp
END:VEVENT
BEGIN:VEVENT
DTSTART;TZID=Europe/Berlin:20250524T080000
DTEND;TZID=Europe/Berlin:20250524T200000
DTSTAMP:20260420T030357
CREATED:20250310T190946Z
LAST-MODIFIED:20250310T190946Z
UID:712-1748073600-1748116800@cardwings.de
SUMMARY:Nordlore 2
DESCRIPTION:Nach dem großen Erfolg im letzten Jahr kehrt die Nordlore zurück!  \nAm 24.05.2025 findet in Hamburg zum zweiten Mal unser Non-Profit Lorcana-Turnier statt – größer\, spannender und mit großartigem Support von unserem großartigen Partner-LGS Keepseven! \nVeranstaltungsdetails:\n🏆 Turnier: Lorcana Constructed mit 128 Spielern\, 2-Game-Format\, anschließende Top 8 Bo3\n📅 Datum: 24.05.2025\n⏰Einlass: ab 8:00 Uhr\nBeginn: 9:00 Uhr\n📍 Ort: Friesenweg 5b\, 22763 Hamburg\n🎟️ Ticketpreis: 30 € (Non-Profit) \nFreut euch auf einen Tag voller spannender Matches\, toller Community-Atmosphäre und großartiger Preise.\nEgal\, ob ihr um den Sieg kämpft oder einfach nur Spaß haben wollt – die Nordlore ist das Event für alle Lorcana-Fans! \n🔹 Tickets sind ab sofort via Keepseven verfügbar! https://keepseven.de/events/tickets/disney-lorcana-nordlore-2-tintenvorrat-x-keepseven-constructed/ \nPreise:\nPlatz 1: Nordlore Pokal\, 1x D23 Box\, 1x Display Archazias Insel\, 1xFree Grading AOG\, 1x Arkhive Ultimate Guard + Katana Sleeves\nPlatz 2: 1x Display Archazias Insel\, 1xFree Grading AOG\, 1x Ench “Belle” Set 1 DE\, Deckbox Ultimate Guard + Katana Sleeves\nPlatz 3: 1x Display Archazias Insel\, 1xFree Grading AOG\, 1x Ench “Aurora” Set 1 DE\, Deckbox Ultimate Guard + Katana Sleeves\nPlatz 4: 1x Display Archazias Insel\, Ench “Anna” Set 4 DE\, Deckbox Ultimate Guard + Katana Sleeves
URL:https://cardwings.de/event/nordlore-2/
CATEGORIES:Loremeisterschaften,Turniere
ATTACH;FMTTYPE=image/jpeg:https://cardwings.de/wp-content/uploads/2025/03/Nordlore_Insta_Save_the_Date.jpg
END:VEVENT
BEGIN:VEVENT
DTSTART;TZID=Europe/Berlin:20250524T080000
DTEND;TZID=Europe/Berlin:20250524T200000
DTSTAMP:20260420T030357
CREATED:20250310T190946Z
LAST-MODIFIED:20250310T190946Z
UID:1346-1748073600-1748116800@cardwings.de
SUMMARY:Nordlore 2
DESCRIPTION:Nach dem großen Erfolg im letzten Jahr kehrt die Nordlore zurück!  \nAm 24.05.2025 findet in Hamburg zum zweiten Mal unser Non-Profit Lorcana-Turnier statt – größer\, spannender und mit großartigem Support von unserem großartigen Partner-LGS Keepseven! \nVeranstaltungsdetails:\n🏆 Turnier: Lorcana Constructed mit 128 Spielern\, 2-Game-Format\, anschließende Top 8 Bo3\n📅 Datum: 24.05.2025\n⏰Einlass: ab 8:00 Uhr\nBeginn: 9:00 Uhr\n📍 Ort: Friesenweg 5b\, 22763 Hamburg\n🎟️ Ticketpreis: 30 € (Non-Profit) \nFreut euch auf einen Tag voller spannender Matches\, toller Community-Atmosphäre und großartiger Preise.\nEgal\, ob ihr um den Sieg kämpft oder einfach nur Spaß haben wollt – die Nordlore ist das Event für alle Lorcana-Fans! \n🔹 Tickets sind ab sofort via Keepseven verfügbar! https://keepseven.de/events/tickets/disney-lorcana-nordlore-2-tintenvorrat-x-keepseven-constructed/ \nPreise:\nPlatz 1: Nordlore Pokal\, 1x D23 Box\, 1x Display Archazias Insel\, 1xFree Grading AOG\, 1x Arkhive Ultimate Guard + Katana Sleeves\nPlatz 2: 1x Display Archazias Insel\, 1xFree Grading AOG\, 1x Ench “Belle” Set 1 DE\, Deckbox Ultimate Guard + Katana Sleeves\nPlatz 3: 1x Display Archazias Insel\, 1xFree Grading AOG\, 1x Ench “Aurora” Set 1 DE\, Deckbox Ultimate Guard + Katana Sleeves\nPlatz 4: 1x Display Archazias Insel\, Ench “Anna” Set 4 DE\, Deckbox Ultimate Guard + Katana Sleeves
URL:https://cardwings.de/event/nordlore-2-2/
CATEGORIES:Loremeisterschaften,Turniere
ATTACH;FMTTYPE=image/jpeg:https://cardwings.de/wp-content/uploads/2025/03/Nordlore_Insta_Save_the_Date.jpg
END:VEVENT
END:VCALENDAR