BEGIN:VCALENDAR
VERSION:2.0
PRODID:-//cardwings.de - ECPv6.14.2//NONSGML v1.0//EN
CALSCALE:GREGORIAN
METHOD:PUBLISH
X-WR-CALNAME:cardwings.de
X-ORIGINAL-URL:https://cardwings.de
X-WR-CALDESC:Veranstaltungen für cardwings.de
REFRESH-INTERVAL;VALUE=DURATION:PT1H
X-Robots-Tag:noindex
X-PUBLISHED-TTL:PT1H
BEGIN:VTIMEZONE
TZID:Europe/Berlin
BEGIN:DAYLIGHT
TZOFFSETFROM:+0100
TZOFFSETTO:+0200
TZNAME:CEST
DTSTART:20250330T010000
END:DAYLIGHT
BEGIN:STANDARD
TZOFFSETFROM:+0200
TZOFFSETTO:+0100
TZNAME:CET
DTSTART:20251026T010000
END:STANDARD
END:VTIMEZONE
BEGIN:VEVENT
DTSTART;TZID=Europe/Berlin:20250915T190000
DTEND;TZID=Europe/Berlin:20250915T230000
DTSTAMP:20260424T120823
CREATED:20250708T164118Z
LAST-MODIFIED:20250708T164118Z
UID:1701-1757962800-1757977200@cardwings.de
SUMMARY:CardWings Teamliga - Saison 2
DESCRIPTION:Liebe Luminari\, \ndie CardWings Teamliga geht in die 2. Saison. \nIn dieser Saison erwarten euch 2 Ligen\, 20 Teams\, 9 Spieltage und spannende Matches. \nWir freuen uns auf euch. \nEuer CardWings Team
URL:https://cardwings.de/event/cardwings-teamliga-saison-2/
LOCATION:CardWings
CATEGORIES:Team Liga
END:VEVENT
BEGIN:VEVENT
DTSTART;TZID=Europe/Berlin:20250921T110000
DTEND;TZID=Europe/Berlin:20250921T190000
DTSTAMP:20260424T120823
CREATED:20250707T202449Z
LAST-MODIFIED:20250707T202449Z
UID:1696-1758452400-1758481200@cardwings.de
SUMMARY:Fun-Turnier – Lorenzo in Wonderland
DESCRIPTION:Liebe Luminari\, \nwir freuen uns riesig\, euch zu unserem bisher größten Fun-Turnier am 21. September 2025 einladen zu dürfen! In bekannter Form wollen wir euch auch dieses Mal wieder die Möglichkeit geben\, ein Deck mit euren Lieblingsfranchises zu bauen. Diese Webseite soll euch mit allen nötigen Informationen versorgen\, um euch bestmöglich auf das Turnier vorzubereiten. Viel Spaß beim Stöbern. \nWas erwartet mich als Teilnehmer*in? \nIm Rahmen dieses Turniers werdet ihr die Möglichkeit haben\, tolle Fun-Decks zu spielen und eure Lieblingscharaktere gegeneinander antreten zu lassen. Egal ob “König der Löwen” oder “Frozen” dein unangefochtener Lieblingsfilm ist – in diesem Turnier kannst du genau das Franchise spielen\, das dir am Besten gefällt. Du wirst dir keine Sorgen vor Meta-Decks machen müssen. \nBeim reinen Spiel bleibt’s aber noch lange nicht!Natürlich werden wir auch wieder für euer leibliches Wohl sorgen. Unter dem Motto “Lorenzo in Wonderland” wird es eine Teatime mit herzhaften und süßen Snacks gegen einen pauschalen Unkostenbeitrag für euch geben. Wie bei all unseren Turnieren wird es wieder überwiegend vegetarisches Fingerfood geben\, selbstverständlich aber auch vegane und fleischliche Köstlichkeiten. Getränke\, wie Softdrinks und Wasser\, können ebenfalls erworben werden. Bitte beachtet\, dass wir vor Ort allerdings nur Bargeld akzeptieren können. \nAm Turniertag werdet ihr auch die Möglichkeit haben\, eure Karten von einer Lorcana-Künstlerin unterzeichnen zu lassen. Wer das ist\, verraten wir euch schon ganz bald. \nEin weiteres Highlight wird unsere Fotowand werden – sowas werdet Ihr mit Sicherheit bisher noch nicht auf einem Turnier gesehen haben. \nGibt es auch etwas zu gewinnen? \nBei unseren Turnieren geht niemand leer aus! Wir werden einen tollen Preispool bereitstellen\, der größer ist als jemals zuvor. Wir wollen noch nicht zu viel verraten\, aber es wird selbstverständlich wieder tolle DIY-Preise und andere Goodies geben. Außerdem haben wir noch die eine oder andere Überraschung für euch parat. Ein kleiner Tipp am Rande: schaut doch mal auf unserem Instagram Channel vorbei! Dort werden wir in den nächsten Wochen das ein oder andere anteasern. \nWie lauten die Deckbauregeln? \n\nEin Deck darf nur aus Karten eines Franchise bestehen. Dies gilt neben Charakteren ebenfalls für Aktionen\, Gegenstände\, Orte und Songs.\nDas Deck muss aus mindestens 60 Karten bestehen.\nErlaubter Kartenpool: Infinity Constructed\nLimitierung der Seltenheitsstufen je Deck:\n\nmax. 20 Karten in Summe der Seltenheiten Rare\, Super Rare und Legendary\n\n\nJedes Deck hat eine Hauptfarbe. Diese ist frei wählbar.\n\nNur Aktionen\, Lieder\, Gegenstände und Orte der Hauptfarbe dürfen in die Decks aufgenommen werden.\n\n\nDual-Color Aktionen\, Lieder\, Gegenstände und Orte sind erlaubt\, sofern eine der beiden Farben der Hauptfarbe entspricht.\nCharaktere dürfen aus allen Farben und Dual-Color-Farben gemischt werden.\nDecks dürfen mit so vielen Tintenfarben gespielt werden wie gewünscht.\nVor Turnierbeginn muss eine Online-Deckliste abgegeben werden. Abgabefrist ist 14. September 2025 (Infos folgen per Mail nach der Anmeldung).\nKarten aus “Ursulas Rückkehr – Die Luminari Chroniken: Gefahr aus der Tiefe” (goldener Kartenrücken) sind nicht zugelassen.\nKarten aus “Domäne von Dschafar – Luminari Chroniken: Überfall auf den Palast” (roter Kartenrücken)sind nicht zugelassen.\n\nWie lauten die Turnierregeln? \n\nGespielt wird das Turnier im Schweizer System über 6 Runden ohne Top-Cut. Gespielt wird im BO3-Format über 50 Minuten.\nDas Tracking des Turniers erfolgt über Melee und ist über folgenden Link zu erreichen: https://melee.gg/Tournament/View/314625\n\nWie läuft das Turnier ab? \n\nCheck-In: 10.00 Uhr\nTurnierstart :11.00 Uhr\nMittagspause: 14.00 Uhr bis 15.00 Uhr\nSiegerehrung: 18.30 Uhr\nVeranstaltungsende: 19.00 Uhr\n\nWo findet die Veranstaltung statt? \nUnsere Turnierlocation befindet sich in der Kulturhalle Feudenheim\, Spessartstraße 24-28 in 68259 Mannheim. \nWo kann ich parken? \nKFZ-Stellplätze sind unmittelbar in der Nähe der Kulturhalle\, zwischen “Spessartstraße” und “Unteres Kirchfeld” verfügbar. Ihr könnt einfach direkt zur Kulturhalle Feudenheim navigieren und werdet die Parkplätze nicht übersehen. \nWelche ÖPNV-Haltestelle ist in der Nähe? \nDie RNV-Linie 2 fährt direkt aus der Mannheimer Innenstadt in circa 20 Minuten nach Feudenheim. Von den Straßenbahn-Haltestellen “Feudenheim Kirche” oder “Feudenheim Neckarstraße” lauft ihr jeweils nur 2 Minuten zur Kulturhalle Feudenheim. \nWas kostet die Teilnahme am Turnier? \nDie Teilnahme am Turnier kostet 15€ pro Teilnehmer*in. Die Teatime-Essenspauschale kann optional für weitere 15€ dazu gebucht werden. Eine Buchung vorab ist für unsere Planung dringend notwenig. Beim Ticketkauf könnt ihr eure Präferenz beim Essen mit angeben. \nGetränke können gegen Bargeld vor Ort erworben werden. \n\nst der Veranstaltungsort barrierefrei?\nDer Eingang zur Kulturhalle ist barrierearm ohne Stufen erreichbar. Allerdings ist keine barrierefreie Toilette vorhanden. Auch die Spieltische werden die Bewegungsfreiheit im Turnier-Raum etwas einschränken. Wende dich gerne bei Fragen an uns. \n\nDu hast eine noch eine Frage\, die bisher nicht beantwortet wurde? Dann schreib uns doch via Instagram oder per Mail an lorcanerds@raumzeitlabor.de
URL:https://cardwings.de/event/fun-turnier-lorenzo-in-wonderland/
LOCATION:Lorcanerds\, Spessartstraße 24-28\, Mannheim\, Baden-Württemberg\, 68259
CATEGORIES:Turniere
ATTACH;FMTTYPE=image/jpeg:https://cardwings.de/wp-content/uploads/2025/07/IMG_3070.jpeg
ORGANIZER;CN="Lorcanerds":MAILTO:lorcanerds@raumzeitlabor.de
END:VEVENT
BEGIN:VEVENT
DTSTART;TZID=Europe/Berlin:20250927T103000
DTEND;TZID=Europe/Berlin:20250928T190000
DTSTAMP:20260424T120823
CREATED:20250725T090908Z
LAST-MODIFIED:20250725T090908Z
UID:1857-1758969000-1759086000@cardwings.de
SUMMARY:HiroCon x Battle Bear Disney Lorcana Event
DESCRIPTION:Ein Ticket – zwei Welten! \n\nMit deinem Ticket für das große Lorcana-Turnier auf der HiroCon 2025 sicherst du dir nicht nur deinen Platz im Turnier – du bekommst automatisch Zutritt zur gesamten Convention am 27. & 28. September 2025! \nTauche ein in ein Wochenende voller Magie\, Cosplay\, Artists\, Gaming und Community – und kämpfe gleichzeitig um epische Preise im ultimativen Lorcana-Duell! \nErlebe Spannung auf dem Spielfeld und Con-Feeling drumherum – alles mit nur einem Ticket. \nWorauf wartest du? Sei dabei und werde Teil des Abenteuers! \nHiroCon Lorcana Event \n\nDann komm zur HiroCon 2025 und stelle dich der Herausforderung beim großen Lorcana-Turnier am 27. & 28. September in Saarbrücken! \nIm Best of Three | Constructed-Format treten maximal 128 Spieler:innen an\, um zwei Tage lang um Ruhm\, Ehre – und einen fetten Preispool – zu kämpfen. Zeig dein Können in 7 Swiss-Runden und sichere dir den Einzug in die Top 16\, die am zweiten Tag um den Titel ringen dürfen. \nPreispool:\n\nPlatz 1: Sachpreise im Wert von ca. 800 €*\nPlatz 2: Sachpreise im Wert von ca. 400 €*\nPlatz 3: Sachpreise im Wert von ca. 200 €*\nPlatz 4: 1x Display „Fabled“\nPlatz 5–8: 8 Booster „Fabled“\nPlatz 9–16: 4 Booster „Fabled“\nPlatz 17–32: 2 Booster „Fabled“\n\nTeilnahmegeschenk: Jeder bekommt 3 Booster „Fabled“ direkt beim Check-in! \nDas erwartet dich:\nAustragungsort: \nE-Werk Saarbrücken\nDr.-Tietz-Straße 14\n66115 Saarbrücken\nZu Google Maps \nAblauf: \nTag 1 (27. September): 7 Runden Swiss\nTag 2 (28. September): Die Top 16 treten erneut gegeneinander an\, um den Champion zu küren!\nDie Top 16 erhalten für den zweiten Tag ein Freiticket für die HiroCon\, um an diesem Event teilnehmen zu können! \nAnmeldung: 10:00 Uhr | Start: 10:30 Uhr | Tickets: 45 € \nWichtig: Ticketregelung\nMit dem Kauf deines Event-Tickets erhältst du automatisch Zutritt zur HiroCon am Turniertag! \n\nEigener Eingang für Turnierspieler:innen\nEinfach Bestellnummer am Eingang nennen\nKein zusätzliches HiroCon-Ticket nötig
URL:https://cardwings.de/event/hirocon-x-battle-bear-disney-lorcana-event/
LOCATION:E-Werk Saarbrücken\, Dr-Tiet-Straße 14\, Saarbrücken\, 66115
CATEGORIES:Turniere
ATTACH;FMTTYPE=image/webp:https://cardwings.de/wp-content/uploads/2025/07/HiroConLorcana.jpg.webp
ORGANIZER;CN="Battle Bear Kaiserlautern":MAILTO:support@battle-bear.de
END:VEVENT
END:VCALENDAR